BEGIN:VCALENDAR
VERSION:2.0
PRODID:-//St Kilda Brass - ECPv6.15.20//NONSGML v1.0//EN
CALSCALE:GREGORIAN
METHOD:PUBLISH
X-WR-CALNAME:St Kilda Brass
X-ORIGINAL-URL:http://stkildabrass.org.nz
X-WR-CALDESC:Events for St Kilda Brass
REFRESH-INTERVAL;VALUE=DURATION:PT1H
X-Robots-Tag:noindex
X-PUBLISHED-TTL:PT1H
BEGIN:VTIMEZONE
TZID:Pacific/Auckland
BEGIN:STANDARD
TZOFFSETFROM:+1300
TZOFFSETTO:+1200
TZNAME:NZST
DTSTART:20170401T140000
END:STANDARD
BEGIN:DAYLIGHT
TZOFFSETFROM:+1200
TZOFFSETTO:+1300
TZNAME:NZDT
DTSTART:20170923T140000
END:DAYLIGHT
BEGIN:STANDARD
TZOFFSETFROM:+1300
TZOFFSETTO:+1200
TZNAME:NZST
DTSTART:20180331T140000
END:STANDARD
BEGIN:DAYLIGHT
TZOFFSETFROM:+1200
TZOFFSETTO:+1300
TZNAME:NZDT
DTSTART:20180929T140000
END:DAYLIGHT
BEGIN:STANDARD
TZOFFSETFROM:+1300
TZOFFSETTO:+1200
TZNAME:NZST
DTSTART:20190406T140000
END:STANDARD
BEGIN:DAYLIGHT
TZOFFSETFROM:+1200
TZOFFSETTO:+1300
TZNAME:NZDT
DTSTART:20190928T140000
END:DAYLIGHT
BEGIN:STANDARD
TZOFFSETFROM:+1300
TZOFFSETTO:+1200
TZNAME:NZST
DTSTART:20200404T140000
END:STANDARD
BEGIN:DAYLIGHT
TZOFFSETFROM:+1200
TZOFFSETTO:+1300
TZNAME:NZDT
DTSTART:20200926T140000
END:DAYLIGHT
BEGIN:STANDARD
TZOFFSETFROM:+1300
TZOFFSETTO:+1200
TZNAME:NZST
DTSTART:20210403T140000
END:STANDARD
BEGIN:DAYLIGHT
TZOFFSETFROM:+1200
TZOFFSETTO:+1300
TZNAME:NZDT
DTSTART:20210925T140000
END:DAYLIGHT
BEGIN:STANDARD
TZOFFSETFROM:+1300
TZOFFSETTO:+1200
TZNAME:NZST
DTSTART:20220402T140000
END:STANDARD
BEGIN:DAYLIGHT
TZOFFSETFROM:+1200
TZOFFSETTO:+1300
TZNAME:NZDT
DTSTART:20220924T140000
END:DAYLIGHT
BEGIN:STANDARD
TZOFFSETFROM:+1300
TZOFFSETTO:+1200
TZNAME:NZST
DTSTART:20230401T140000
END:STANDARD
BEGIN:DAYLIGHT
TZOFFSETFROM:+1200
TZOFFSETTO:+1300
TZNAME:NZDT
DTSTART:20230923T140000
END:DAYLIGHT
END:VTIMEZONE
BEGIN:VEVENT
DTSTART;TZID=Pacific/Auckland:20220825T203000
DTEND;TZID=Pacific/Auckland:20220825T213000
DTSTAMP:20260425T035609
CREATED:20220810T085429Z
LAST-MODIFIED:20220810T085429Z
UID:684-1661459400-1661463000@stkildabrass.org.nz
SUMMARY:Annual General Meeting
DESCRIPTION:
URL:http://stkildabrass.org.nz/event/annual-general-meeting/
LOCATION:St Kilda Bandrooms\, 26 Ravelston Street\, Dunedin\, Otago\, New Zealand
END:VEVENT
BEGIN:VEVENT
DTSTART;TZID=Pacific/Auckland:20201111T190000
DTEND;TZID=Pacific/Auckland:20201111T210000
DTSTAMP:20260425T035609
CREATED:20201021T014015Z
LAST-MODIFIED:20201021T014030Z
UID:629-1605121200-1605128400@stkildabrass.org.nz
SUMMARY:Armistice Day Concert
DESCRIPTION:Dunedin RSA Choir and St Kilda Band presents Armistice Day Concert at Knox Church. Conductors Karen Knudson and Shane Foster with organist David Burchell and guest artist Alexander McAdam.\n\nDoor sales only – $20 Adult\, $10 Students/children
URL:http://stkildabrass.org.nz/event/armistice-day-concert/
LOCATION:Knox Church\, 449 George Street\, Dunedin\, Otago\, New Zealand
CATEGORIES:Concert
ATTACH;FMTTYPE=image/png:http://stkildabrass.org.nz/wp-content/uploads/2020/10/St-Kilda-posterSmall.png
END:VEVENT
BEGIN:VEVENT
DTSTART;TZID=Pacific/Auckland:20200829T140000
DTEND;TZID=Pacific/Auckland:20200829T160000
DTSTAMP:20260425T035609
CREATED:20200722T014735Z
LAST-MODIFIED:20200722T014735Z
UID:625-1598709600-1598716800@stkildabrass.org.nz
SUMMARY:Saint Peter’s Caversham Afternoon Concert Series
DESCRIPTION:Out of lockdown\, Dunedin’s premiere brass band team up with conductor Shane Foster\, former soprano player of world famous Grimethorpe Colliery Band for ‘Stories and Stars’.
URL:http://stkildabrass.org.nz/event/saint-peters-caversham-afternoon-concert-series-2/
LOCATION:Saint Peter’s Caversham\, 57 Baker Street\, Dunedin\, Otago\, 9012\, New Zealand
CATEGORIES:Concert
ATTACH;FMTTYPE=image/png:http://stkildabrass.org.nz/wp-content/uploads/2020/07/Caversham-Concert3.png
END:VEVENT
BEGIN:VEVENT
DTSTART;VALUE=DATE:20200404
DTEND;VALUE=DATE:20200406
DTSTAMP:20260425T035609
CREATED:20200301T193659Z
LAST-MODIFIED:20200301T193659Z
UID:621-1585958400-1586131199@stkildabrass.org.nz
SUMMARY:Otago Southland Brass Band Provincials
DESCRIPTION:
URL:http://stkildabrass.org.nz/event/otago-southland-brass-band-provincials/
LOCATION:Otago
CATEGORIES:Contest,Otago Southland Provincials
END:VEVENT
BEGIN:VEVENT
DTSTART;TZID=Pacific/Auckland:20191010T193000
DTEND;TZID=Pacific/Auckland:20191010T213000
DTSTAMP:20260425T035609
CREATED:20190925T034617Z
LAST-MODIFIED:20190925T034617Z
UID:610-1570735800-1570743000@stkildabrass.org.nz
SUMMARY:Friends and Family Concert
DESCRIPTION:Come along to our annual Friends and Family Concert – a chance to play for our friends and family as well as celebrate our achievements and give out some annual awards. \nCost: $10 Adults\, $5 Concessions
URL:http://stkildabrass.org.nz/event/friends-and-family-concert-2/
LOCATION:Hanover Hall\, 65 Hanover Hall\, Dunedin\, Otago\, 9010\, New Zealand
CATEGORIES:Concert
END:VEVENT
BEGIN:VEVENT
DTSTART;TZID=Pacific/Auckland:20190907T140000
DTEND;TZID=Pacific/Auckland:20190907T163000
DTSTAMP:20260425T035609
CREATED:20190813T021834Z
LAST-MODIFIED:20190813T021834Z
UID:587-1567864800-1567873800@stkildabrass.org.nz
SUMMARY:Saint Peter's Caversham Afternoon Concert Series
DESCRIPTION:St Kilda Brass with conductor Shane Foster\n…something borrowed\, something blue. \nFather Hugh Bowron welcomes Shane Foster\, conductor of St Kilda Brass back to St Peter’s Caversham.\nWe are delighted to announce the return of St Kilda Brass to St Peter’s Caversham as part of their winter Afternoon Concert Series.  Last year a capacity audience enjoyed a mixed programme under the baton of Shane Foster\, former soprano cornet player with the world famous Grimethorpe Colliery Band.  This year promises more of the same.  The repertoire encompasses traditional and contemporary numbers\, Glen Miller to Rachmaninoff.  The concert will also feature several of the band’s soloists including one of New Zealand’s finest cornet players\, Dunedin’s own John Lewis.  The afternoon concludes with an opportunity to meet the band and conductor over tea and coffee in the church lounge.
URL:http://stkildabrass.org.nz/event/saint-peters-caversham-afternoon-concert-series/
LOCATION:Saint Peter’s Caversham\, 57 Baker Street\, Dunedin\, Otago\, 9012\, New Zealand
CATEGORIES:Concert
END:VEVENT
BEGIN:VEVENT
DTSTART;TZID=Pacific/Auckland:20181011T193000
DTEND;TZID=Pacific/Auckland:20181011T213000
DTSTAMP:20260425T035609
CREATED:20180914T081029Z
LAST-MODIFIED:20181001T203010Z
UID:518-1539286200-1539293400@stkildabrass.org.nz
SUMMARY:Friends and Family Concert
DESCRIPTION:This is YOUR concert. Come help us celebrate the end of the student year with a youth and entertainment focused programme. \n$5 entry or similar donation\, supper to follow. \nYes\, we know it is the same night as the NZSO\, but hopefully their ticket sales won’t suffer too much…
URL:http://stkildabrass.org.nz/event/friends-and-family-concert/
LOCATION:Hanover Hall\, 65 Hanover Hall\, Dunedin\, Otago\, 9010\, New Zealand
CATEGORIES:Concert
END:VEVENT
BEGIN:VEVENT
DTSTART;TZID=Pacific/Auckland:20180908T140000
DTEND;TZID=Pacific/Auckland:20180908T170000
DTSTAMP:20260425T035609
CREATED:20180824T092759Z
LAST-MODIFIED:20180904T202452Z
UID:475-1536415200-1536426000@stkildabrass.org.nz
SUMMARY:Saint Peter's Caversham Afternoon Series
DESCRIPTION:Dunedin’s premiere brass band team up with conductor Shane Foster\, former soprano player of world famous Grimethorpe Colliery Band. \nJoin us for a ‘by request’ selection of popular works and traditional favourites including Birdland and Concierto de Aranjuez. \nFollowed by a cup of tea and a chance to meet the band.
URL:http://stkildabrass.org.nz/event/saint-peters-caversham-afternoon-series/
LOCATION:Saint Peter’s Caversham\, 57 Baker Street\, Dunedin\, Otago\, 9012\, New Zealand
CATEGORIES:Concert
END:VEVENT
BEGIN:VEVENT
DTSTART;TZID=Pacific/Auckland:20180711T080000
DTEND;TZID=Pacific/Auckland:20180715T170000
DTSTAMP:20260425T035609
CREATED:20180703T021941Z
LAST-MODIFIED:20180703T021941Z
UID:300-1531296000-1531674000@stkildabrass.org.nz
SUMMARY:New Zealand Brass Band Championships
DESCRIPTION:
URL:http://stkildabrass.org.nz/event/new-zealand-brass-band-championships/
LOCATION:ASB Theatre\, 2 Hutcheson Street\, Blenheim\, New Zealand
CATEGORIES:Contest,National Championship
ATTACH;FMTTYPE=image/jpeg:http://stkildabrass.org.nz/wp-content/uploads/2018/07/IMG_0204.jpg
END:VEVENT
END:VCALENDAR